BEGIN:VCALENDAR
VERSION:2.0
PRODID:-//THD Veranstaltungen//th-deg.de//DE
CALSCALE:GREGORIAN
BEGIN:VEVENT
DTSTART:20260507T180000
DTEND:20260507T200000
LOCATION:BITZ Oberschneiding
DTSTAMP:20260507T180000
SUMMARY:Silicon Valley Program 2026 | Homecoming
DESCRIPTION:<p>Unsere Venture Teams kehren mit frischen Eindrücken aus der Silicon Valley Experience Week zurück. In einer Pitch Session präsentieren sie ihre Fortschritte und ihre Geschäftsideen vor einem Panel aus regionalen Investorinnen, Investoren und Netzwerkpartnern.</p>

<p>Sie interessieren sich für Gründung, wirtschaftliches Wachstum und innovative Geschäftsideen? Dann kommen Sie vorbei, lassen Sie sich inspirieren und vernetzen Sie sich mit Gleichgesinnten!<br />
<br />
Wann: 07. Mai um 18:00 Uhr<br />
Ort: Straubinger Str. 19, Oberschneiding</p>

<p>Anmeldung über den Link unten.</p>

<p>&nbsp;</p>

UID:b4dd7466992b4febb8d82067f3e8b88c@th-deg.de
END:VEVENT
END:VCALENDAR