BEGIN:VCALENDAR
VERSION:2.0
PRODID:-//THD Veranstaltungen//th-deg.de//DE
CALSCALE:GREGORIAN
BEGIN:VEVENT
DTSTART:20250903T160000
DTEND:20250903T170000
LOCATION:Online
DTSTAMP:20250903T160000
SUMMARY:Pilze, Viren und Bakterien - Journal Club Intensivpflege 2025
DESCRIPTION:Lydia Bauernfeind und Fritz Sterr beleuchten alle zwei Monate ein für Intensivpflegende relevantes Thema und stellen dabei jeweils aktuelle Studien aus der pädiatrischen und Erwachsenenintensivpflege vor.<br />\n<br />\nThema: Pilze, Viren und Bakterien - Therapie und Pharmakologie
UID:b0f5bd04e9448aaa755d75a056edee44@th-deg.de
END:VEVENT
END:VCALENDAR