BEGIN:VCALENDAR
VERSION:2.0
PRODID:-//THD Veranstaltungen//th-deg.de//DE
CALSCALE:GREGORIAN
BEGIN:VEVENT
DTSTART:20260623T180000
DTEND:20260623T200000
LOCATION:ITC GmbH, Ulrichsbergerstraße 17, 94469 Deggendorf
DTSTAMP:20260623T180000
SUMMARY:Gründungsstammtisch: Mission Zukunft: Defense – Chancen für Startups und KMU´s!
DESCRIPTION:Beim nächsten Gründungsstammtisch geben wir Einblicke in aktuelle Entwicklungen rund um das Thema Defense und zeigen, welche Rolle Startups und KMU in diesem Umfeld spielen können. Gleichzeitig bietet der Abend Raum für Austausch, neue Perspektiven und Vernetzung – für alle, die sich in unserer Gründungscommunity einbringen möchten.<br />\n<br />\nAgenda – Mission Zukunft: Defense – Chancen für Startups und KMU<br />\n<br />\n18:00 Uhr – Start<br />\n<br />\nTop 1: Geopolitische Entwicklungen<br />\nThomas Erndl <br />\n<br />\nTop 2: Welche Technologien künftig gefragt sein könnten<br />\nWolfgang Dorner <br />\n<br />\nTop 3: Rolle von Startups & KMU im Ökosystem + Wege zum Marktzugang<br />\nLara Polster <br />\n<br />\nTop 4: Offenes Netzwerken<br />\n<br />\nEnde: 20:00 Uhr<br />\n<br />\nDer Anmeldelink zur Veranstaltung folgt. Wir bitten für eine bessere Planung um Anmeldung. 
UID:5b88269c68bc916363c907a46673ad48@th-deg.de
END:VEVENT
END:VCALENDAR